Workbook

Sheet NGAY THANG
A1: CHECK | B1: Chênh lệch | C1: Chênh lệch | D1: Chênh lệch
A2: Tài sản-nơ | B2: =BCtinhhinhtaichinh!D37-BCTaiSan_06027!D34 -> 0 | C2: =BCTaiSan_06027!D34-BCDanhMucDauTu_06029!F68 -> 0 | D2: =BCTaiSan_06027!D58-GiaTriTaiSanRong_06129!E24 -> 0
A3: Tài sản-nơ | B3: =BCtinhhinhtaichinh!D59-BCTaiSan_06027!D57 -> 0 | C3: =BCtinhhinhtaichinh!D60-BCTaiSan_06027!D58 -> 0 | D3: =BCtinhhinhtaichinh!D60-GiaTriTaiSanRong_06129!E24 -> 0
A4: Thu nhập chi phí | B4: =BCthunhap!D18-BCKetQuaHoatDong_06028!D20-BCKetQuaHoatDong_06028!D21-BCKetQuaHoatDong_06028!D50-BCKetQuaHoatDong_06028!D51 -> 0 | C4: =BCthunhap!D27+BCthunhap!D35-BCKetQuaHoatDong_06028!D23 -> 0 | D4: =BCthunhap!D63-BCKetQuaHoatDong_06028!D52 -> 0
A5: NAV | B5: =BCtinhhinhtaichinh!D66-BCTaiSan_06027!D60 -> 0 | C5: =BCtinhhinhtaichinh!E66-BCTaiSan_06027!E60 -> 0 | D5: =BCTaiSan_06027!D60-Khac_06030!D44 -> 0
A6: Số lượng CCQ | B6: =Khac_06030!D40-BCTaiSan_06027!D59 -> 0 | C6: =Khac_06030!D40-BCTaiSan_06027!D59 -> 0 | D6: =Khac_06030!D32-BCTaiSan_06027!E59 -> 0
B7: =BCTaiSan_06027!D34-BCDanhMucDauTu_06029!F68 -> 0 | C7: =GiaTriTaiSanRong_06129!E24-BCKetQuaHoatDong_06028!D59 -> 0 | D7: =BCtinhhinhtaichinh!D60-(BCtinhhinhtaichinh!D61+BCtinhhinhtaichinh!D64+BCtinhhinhtaichinh!D65) -> 0
D23: Tháng 05 năm 2026/May 2026
D25: Ngày 05 tháng 06 năm 2026
D26: 46178
D28: Tại ngày 31 tháng 05 năm 2026/ As at 31 May 2026
D29: Tại ngày 30 tháng 04 năm 2026/ As at 30 Apr 2026
C32: Tháng 05.2026 May 2026 | D32: Tháng 04.2026 Apr 2026
C33: Tháng 05.2025 May 2025

Sheet BCLCTT_06262
A1: Mẫu số B05g - QM. Báo cáo lưu chuyển tiền tệ Template B05g - QM. Cash flow statement
A2: (Ban hành kèm theo Thông tư 198/2012/TT-BTC ngày 15 tháng 11 năm 2012 về chế độ kế toán áp dụng đối với quỹ mở) (Issued in association with Circular 198/2012/TT-BTC dated 15 Nov 2012 on the Accounting Policies for Open-Ended Fund)
A3: BÁO CÁO LƯU CHUYỂN TIỀN TỆ CASH FLOW STATEMENT
A5: ='NGAY THANG'!D23 -> Tháng 05 năm 2026/May 2026
A7: Tên Công ty quản lý quỹ: | B7: Công Ty Cổ Phần Quản Lý Quỹ Đầu tư MB
A8: Fund Management Company: | B8: MB Captial Management Joint Stock Company
A9: Tên ngân hàng giám sát: | B9: Ngân hàng TMCP Đầu tư và Phát triển Việt Nam - Chi nhánh Hà Thành
A10: Supervising bank: | B10: Bank for Investment and Development of Vietnam Jsc - Hathanh branch
A11: Tên Quỹ: | B11: Quỹ đầu tư Trái phiếu MB
A12: Fund name: | B12: MB Bond Fund (MBBOND)
A13: Ngày lập báo cáo: | B13: ='NGAY THANG'!D25 -> Ngày 05 tháng 06 năm 2026
A14: Reporting Date: | B14: ='NGAY THANG'!D26 -> 46178
A16: Chỉ tiêu Indicator | B16: Mã số Code | C16: Thuyết minh Note | D16: ='NGAY THANG'!C32 -> Tháng 05.2026 May 2026 | E16: ='NGAY THANG'!D32 -> Tháng 04.2026 Apr 2026
A17: I. Lưu chuyển tiền từ hoạt động đầu tư Cash flows from investing activities | B17: I | I17: 5000000000
A18: Tiền đã chi mua các khoản đầu tư Payments for investments | B18: 01 | D18: -182859533310 | E18: -6048630000 | F18: =-171259533310 -> -171259533310 | G18: =F18-D18 -> 11600000000 | I18: 2584800000
A19: Tiền đã thu từ bán các khoản đầu tư Proceeds from sale of investments | B19: 02 | D19: 126181632180 | E19: 43289498900 | F19: =95381632180+10000000000 -> 105381632180 | G19: =F19-D19 -> -20800000000 | I19: 2700000
A20: Cổ tức đã nhận Dividend received | B20: 03 | D20: - | E20: 228865000 | I20: =I17-I18 -> 2415200000
A21: Tiền lãi đã thu Interest received | B21: 04 | D21: 1818873617 | E21: 363538410
A22: Trái tức đã nhận Coupon received | B22: 04.1 | D22: 507235092 | F22: 507235092
A23: Trái tức đã trả cho việc mua trái phiếu/CCTG Coupon paid for purchasing bonds/CDs | B23: 04.2 | F23: x
A24: Tiền lãi đã thu Interest received | B24: 04.3 | D24: 1311638525 | E24: 363538410
A25: Tiền chi trả lãi vay cho hoạt động của Quỹ mở Loan payment for Fund's operation | B25: 05 | D25: -
A26: Tiền chi trả phí cho hoạt động quỹ mở Payment for opened-end fund fee | B26: 06 | D26: -771341507 | E26: -1031929337
A27: Tiền chi nộp thuế liên quan đến hoạt động Quỹ mở Tax payment during fund's operation | B27: 07 | D27: -
A28: Tiền chi thanh toán các chi phí cho hoạt động mua, bán các khoản đầu tư (phí môi giới, phí chuyển tiền) Payment for fees relating to investment selling and purchasing transactions (brokerage fee, money transferring fee) | B28: 08 | D28: -31748017 | E28: -74007197
A29: Tiền thu khác từ hoạt động đầu tư Other received | B29: 09 | D29: 2417900000
A30: Tiền chi khác cho hoạt động đầu tư Other payment | B30: 10 | D30: -2417900000
A31: Lưu chuyển tiền thuần sử dụng vào hoạt động đầu tư Net cash flows used in investing activities | B31: 20 | D31: -55662117037 | E31: 36727335776
A32: II. Lưu chuyển tiền từ hoạt động tài chính Cash flows from financing activities | B32: II
A33: Tiền thu từ phát hành chứng chỉ quỹ mở Proceeds from subscription of fund units | B33: 21 | D33: 109445504496 | E33: 6881763
A34: Tiền thu từ phát hành chứng chỉ quỹ mở (Quỹ thu) Proceeds from subscription of fund units (Owned to Fund) | B34: 21.1 | D34: 109445504496 | E34: 6913763
A35: Tiền chi thanh toán phí phát hành liên quan đến giao dịch phát hành chứng chỉ quỹ Payment for subscription fee relating to fund units subscription transaction | B35: 21.2 | D35: - | E35: -32000
A36: Tiền chi mua lại chứng chỉ quỹ mở Payment for redemption of fund units | B36: 22 | D36: -78161018419 | E36: -16730304691
A37: Tiền chi từ mua lại chứng chỉ quỹ mở (Quỹ chi) Proceeds from redemption of fund units (Owned to Fund) | B37: 22.1 | D37: -78129805105 | E37: -16681577979
A38: Tiền chi thanh toán phí mua lại, thuế liên quan đến giao dịch mua lại chứng chỉ quỹ Payment for redemption fee, tax relating to fund units redemption transaction | B38: 22.2 | D38: -31213314 | E38: -48726712
A39: Tiền vay gốc Loan - principal | B39: 23 | D39: -
A40: Tiền chi trả nợ gốc vay Loan principal payment | B40: 24 | D40: -
A41: Thu nhập trả cho Nhà đầu tư Profit Distribution | B41: 25 | D41: -
A42: Lưu chuyển tiền thuần từ hoạt động tài chính Net cash flows from financing activities | B42: 30 | D42: 31284486077 | E42: -16723422928
A43: III. Tăng/(Giảm) tiền thuần trong kỳ Net increase in cash | B43: 40 | D43: -24377630960 | E43: 20003912848
...

Sheet BCthunhap
A1: Mẫu số B01g - QM. Báo cáo thu nhập Template B01g - QM. Statement of Comprehensive Income
A2: (Ban hành kèm theo Thông tư 198/2012/TT-BTC ngày 15 tháng 11 năm 2012 về chế độ kế toán áp dụng đối với quỹ mở) (Issued in association with Circular 198/2012/TT-BTC dated 15 Nov 2012 on the Accounting Policies for Open-Ended Fund)
A3: BÁO CÁO THU NHẬP STATEMENT OF COMPREHENSIVE INCOME
A5: Tháng 05 năm 2026/May 2026
A7: Tên Công ty quản lý quỹ: | B7: Công Ty Cổ Phần Quản Lý Quỹ Đầu tư MB
A8: Fund Management Company: | B8: MB Capital Management Joint Stock Company
A9: Tên ngân hàng giám sát: | B9: Ngân hàng TMCP Đầu tư và Phát triển Việt Nam - Chi nhánh Hà Thành
A10: Supervising bank: | B10: Bank for Investment and Development of Vietnam Jsc - Hathanh Branch
A11: Tên Quỹ: | B11: Quỹ đầu tư tăng trưởng Bordier-MB Flagship
A12: Fund name: | B12: BMFF
A13: Ngày lập báo cáo: | B13: Ngày 05 tháng 06 năm 2026
A14: Reporting Date: | B14: 46178
A16: Chỉ tiêu Indicator | B16: Mã số Code | C16: Thuyết minh Note | D16: Năm 2026 Year 2026 | F16: Năm 2025 Year 2025
D17: Tháng 05.2026 May 2026 | E17: Số lũy kế Year-to-date | F17: Tháng 05.2025 May 2025 | G17: Số lũy kế Year-to-date
A18: I. THU NHẬP, DOANH THU HOẠT ĐỘNG ĐẦU TƯ Investment income | B18: 01 | D18: 4727913609 | E18: 20570696936 | F18: 20672497233 | G18: 19396236328
A19: 1.1. Cổ tức trái tức được chia Dividend coupon income | B19: 02 | D19: 1525214344 | E19: 5636770303 | F19: 1915000000 | G19: 3168980000
A20: 1.2. Tiền lãi được nhận Interest income | B20: 03 | D20: 748108894 | E20: 2800613018 | F20: 1924133 | G20: 49150728
A21: 1.3. Lãi (lỗ) bán các khoản đầu tư Realized gain (losses) from disposal investments | B21: 04 | D21: 933175811 | E21: 14159078268 | F21: 4698658766 | G21: 5422568796
A22: 1.4. Chênh lệch tăng, giảm đánh giá lại các khoản đầu tư chưa thực hiện Unrealized gain (losses) from investment revaluation | B22: 05 | D22: 1521414560 | E22: -2025764653 | F22: 14056914334 | G22: 10755536804
A23: 1.5. Doanh thu khác Other income | B23: 06
A24: 1.6. Chênh lệch lãi, lỗ tỷ giá hối đoái đã và chưa thực hiện Realized and unrealized gain (losses) from foreign exchange | B24: 07
A25: 1.7. Doanh thu khác về đầu tư Other investment income | B25: 08
A26: 1.8. Dự phòng nợ phải thu và dự thu khó đòi về cổ tức, tiền lãi và xử lý tổn thất nợ phải thu khó đòi về cổ tức, tiền lãi Provision expense for bad debts from dividends, interest income and written off bad debts from dividends, interest income | B26: 09
A27: II. CHI PHÍ ĐẦU TƯ INVESTMENT EXPENSE | B27: 10 | D27: 24871674 | E27: 180782845 | F27: 23166916 | G27: 189042074
A28: 2.1. Chi phí giao dịch mua, bán các khoản đầu tư Expense for purchasing and selling investments | B28: 11 | D28: 24871674 | E28: 180782845 | F28: 23166916 | G28: 189042074
A29: Phí môi giới Brokerage fee | B29: 11.1 | D29: 24871674 | E29: 180782845 | F29: 23166916 | G29: 189042074
A30: Chi phí thanh toán bù trừ Clearing settlement fee | B30: 11.2
A31: 2.2. Chi phí dự phòng nợ phải thu khó đòi và xử lý tổn thất phải thu khó đòi Provision expense | B31: 12
A32: 2.3. Chi phí lãi vay Borrowing interest expense | B32: 13
A33: 2.4. Chi phí dự phòng giảm giá tài sản nhận thế chấp và xử lý tổn thất các khoản đầu tư cho vay có tài sản nhận thế chấp Impairment expense for devaluation of assets received as pledge | B33: 14
A34: 2.5. Chi phí đầu tư khác Other investments expense | B34: 15
A35: III. CHI PHÍ HOẠT ĐỘNG CỦA QUỸ OPERATING EXPENSE | B35: 20 | D35: 874370913 | E35: 4204904119 | F35: 458896408 | G35: 2094662657
A36: 3.1. Phí quản lý Quỹ mở Management fee | B36: 20.1 | D36: 788724715 | E36: 3791428939 | F36: 392212525 | G36: 1749319906
A37: 3.2. Phí dịch vụ lưu ký tài sản Quỹ mở Custodian fee | B37: 20.2 | D37: 32519319 | E37: 156928465 | F37: 20706321 | G37: 116094082
A38: Phí dịch vụ lưu ký - bảo quản tài sản Custodian service - Custody Fee | B38: 20.2.1 | D38: 21909020 | E38: 105317471 | F38: 15000000 | G38: 75000000
A39: Phí dịch vụ lưu ký - giao dịch chứng khoán Custodian service - Transaction fee | B39: 20.2.2 | D39: 6150000 | E39: 31500000 | F39: 2850000 | G39: 28950000
A40: Phí dịch vụ - trả cho VSD Service fee - Paid to VSD | B40: 20.2.3 | D40: 4460299 | E40: 20110994 | F40: 2856321 | G40: 12144082
A41: 3.3. Phí dịch vụ giám sát Supervising fee | B41: 20.3 | D41: 9639966 | E41: 46339686 | F41: 5500000 | G41: 27500000
A42: 3.4. Phí dịch vụ quản trị Quỹ mở Fund administrative fee | B42: 20.4 | D42: 16500000 | E42: 82500000 | F42: 16500000 | G42: 82500000
A43: 3.5. Phí dịch vụ đại lý chuyển nhượng Transfer agent fee | B43: 20.5 | D43: 13200000 | E43: 66000000 | F43: 13200000 | G43: 66000000
...

Sheet BCtinhhinhtaichinh
A1: Mẫu số B02g - QM. Báo cáo tình hình tài chính Template B02g - QM. Statement of Financial Position
A2: (Ban hành kèm theo Thông tư 198/2012/TT-BTC ngày 15 tháng 11 năm 2012 về chế độ kế toán áp dụng đối với quỹ mở) (Issued in association with Circular 198/2012/TT-BTC dated 15 Nov 2012 on the Accounting Policies for Open-Ended Fund)
A3: BÁO CÁO TÌNH HÌNH TÀI CHÍNH STATEMENT OF FINANCIAL POSITION
A5: Tại ngày 31 tháng 05 năm 2026/ As at 31 May 2026
A7: Tên Công ty quản lý quỹ: | B7: Công Ty Cổ Phần Quản Lý Quỹ Đầu tư MB
A8: Fund Management Company: | B8: MB Capital Management Joint Stock Company
A9: Tên ngân hàng giám sát: | B9: Ngân hàng TMCP Đầu tư và Phát triển Việt Nam - Chi nhánh Hà Thành
A10: Supervising bank: | B10: Bank for Investment and Development of Vietnam Jsc - Hathanh Branch
A11: Tên Quỹ: | B11: Quỹ đầu tư tăng trưởng Bordier-MB Flagship
A12: Fund name: | B12: BMFF
A13: Ngày lập báo cáo: | B13: Ngày 05 tháng 06 năm 2026
A14: Reporting Date: | B14: 46178
A16: Chỉ tiêu Indicator | B16: Mã số Code | C16: Thuyết minh Note | D16: Tại ngày 31 tháng 05 năm 2026/ As at 31 May 2026 | E16: Tại ngày 30 tháng 04 năm 2026/ As at 30 Apr 2026
A17: I. TÀI SẢN ASSETS | B17: I
A18: 1.Tiền gửi ngân hàng và tương đương tiền Cash at bank and cash equivalent | B18: 110 | D18: 79467108967 | E18: 76855654115
A19: 1.1. Tiền gửi ngân hàng cho hoạt động của Quỹ mở Cash at bank for Fund's operation | B19: 111 | D19: 29467108967 | E19: 26855654115
A20: 1.2. Tiền gửi có kỳ hạn dưới 3 tháng Term deposit less than 3 months | B20: 112 | D20: 50000000000 | E20: 50000000000
A21: 2. Các khoản đầu tư thuần Investment | B21: 120 | D21: 432860313871 | E21: 436903333574
A22: 2.1. Các khoản đầu tư Investments | B22: 121 | D22: 432860313871 | E22: 436903333574
A23: Cổ phiếu Shares | B23: 121.1 | D23: 347861050460 | E23: 338303554950
A24: Chứng chỉ tiền gửi ghi danh Registered Deposit Certificate | B24: 121.2
A25: Trái phiếu Bonds | B25: 121.3 | D25: 4999263411 | E25: 28599778624
A26: Hợp đồng tiền gửi có kỳ hạn trên ba (03) tháng Deposit with term over three (03) months | B26: 121.4 | D26: 80000000000 | E26: 70000000000
A27: 2.2. Dự phòng giảm giá tài sản nhận thế chấp Impairment of devaluation of assets as pledge | B27: 122
A28: 3. Các khoản phải thu Receivables | B28: 130 | D28: 4963811628 | E28: 3177510473
A29: 3.1 Phải thu về bán các khoản đầu tư Receivables from investments sold but not yet settled | B29: 131 | D29: 619380000 | E29: 662836500
A30: Trong đó: Phải thu khó đòi về bán các khoản đầu tư | B30: 132
A31: 3.2. Phải thu và dự thu cổ tức, tiền lãi các khoản đầu tư Dividend and interest receivables | B31: 133 | D31: 4344431628 | E31: 2514673973
A32: Phải thu cổ tức, tiền lãi đến ngày nhận Dividend and interest receivables | B32: 134
A33: Trong đó: Phải thu khó đòi về cổ tức, tiền lãi đến ngày nhận nhưng chưa nhận được | B33: 135
A34: Dự thu cổ tức, tiền lãi chưa đến ngày nhận Accrual dividend, interest income | B34: 136 | D34: 4344431628 | E34: 2514673973
A35: 3.3. Các khoản phải thu khác Other receivables | B35: 137
A36: 3.4. Dự phòng nợ phải thu khó đòi Provision for doubtful debt | B36: 138
A37: TỔNG TÀI SẢN TOTAL ASSETS | B37: 100 | D37: 517291234466 | E37: 516936498162
A38: II. NỢ PHẢI TRẢ TOTAL LIABILITIES | B38: II
A39: 1. Vay ngắn hạn - hợp đồng repo Shorterm loans - Repo | B39: 311
A40: 2. Phải trả về mua các khoản đầu tư Payables for securities bought but not yet settled | B40: 312
A41: 3. Phải trả phí cho các Đại lý phân phối, Công ty quản lý quỹ về mua bán Chứng chỉ quỹ Subscription and Redemption fee payable to distributors and fund management company | B41: 313 | D41: 229221962 | E41: 148205669
A42: 4. Thuế và các khoản phải nộp Nhà nước Tax payables and obligations to the State Budget | B42: 314 | D42: 13326054 | E42: 8407169
A43: 5.Phải trả thu nhập cho Nhà đầu tư Profit distribution payables | B43: 315
...

Sheet BCTaiSan_06027
A1: Phụ lục XXVI. Mẫu báo cáo về hoạt động của Quỹ Appendix XXVI. Report on Fund's Operation
A2: (Ban hành kèm theo Thông tư số 98/2020/TT-BTC ngày 16 tháng 11 năm 2020 của Bộ Tài chính) (Issued in association with Circular 98/2020/TT-BTC dated 16 November 2020 of the Minister of Finance)
A3: BÁO CÁO CHUNG VỀ HOẠT ĐỘNG ĐẦU TƯ CỦA QUỸ REPORT ON FUND'S INVESTMENT ACTIVITIES
A5: Tại ngày 31 tháng 05 năm 2026/ As at 31 May 2026
A7: Tên Công ty quản lý quỹ: | C7: Công Ty Cổ Phần Quản Lý Quỹ Đầu tư MB
A8: Fund Management Company: | C8: MB Capital Management Joint Stock Company
A9: Tên ngân hàng giám sát: | C9: Ngân hàng TMCP Đầu tư và Phát triển Việt Nam Chi nhánh Hà Thành
A10: Supervising bank: | C10: Bank for Investment and Development of Vietnam Jsc Hathanh Branch
A11: Tên Quỹ: | C11: Quỹ đầu tư tăng trưởng Bordier-MB Flagship
A12: Fund name: | C12: BMFF
A13: Ngày lập báo cáo: | C13: Ngày 05 tháng 06 năm 2026
A14: Reporting Date: | C14: 46178
A16: I. BÁO CÁO VỀ TÀI SẢN CỦA QUỸ/ ASSET REPORT
A17: STT No | B17: Nội dung Indicator | C17: Mã chỉ tiêu Code | D17: Tại ngày 31 tháng 05 năm 2026/ As at 31 May 2026 | E17: Tại ngày 30 tháng 04 năm 2026/ As at 30 Apr 2026 | F17: %/cùng kỳ năm trước %/against last year
A18: I | B18: TÀI SẢN ASSETS | C18: 2200
A19: I.1 | B19: Tiền và các khoản tương đương tiền Cash and Cash Equivalents | C19: 2201 | D19: 79467108967 | E19: 76855654115 | F19: 3.131502
B20: Tiền,Các khoản tương đương tiền (*) Cash,Cash Equivalents | C20: 2202 | D20: 50000000000 | E20: 50000000000
B21: Tiền gửi ngân hàng Cash at Bank | C21: 2203 | D21: 29467108967 | E21: 26855654115 | F21: 1.1611887
A22: I.2 | B22: Các khoản đầu tư (kê chi tiết) | C22: 2205 | D22: 432860313871 | E22: 436903333574 | F22: 1.8227067
B23: Cổ phiếu Shares | C23: 2205.1 | D23: 347861050460 | E23: 338303554950 | F23: 1.4647882
B24: Trái phiếu Bonds | C24: 2205.2 | D24: 4999263411 | E24: 28599778624
B25: Hợp đồng tiền gửi có kỳ hạn quá ba (03) tháng Deposit with term over three (03) months | C25: 2205.3 | D25: 80000000000 | E25: 70000000000
B26: Chứng chỉ tiền gửi ghi danh Registered Deposit Certificate | C26: 2205.4
A27: I.3 | B27: Thu từ cho thuê bất động sản đầu tư | C27: 2220
A28: I.4 | B28: Cổ tức, trái tức được nhận Dividend, Coupon Receivables | C28: 2206 | D28: 3195924779 | E28: 1912324658 | F28: 2.061887
A29: I.5 | B29: Lãi được nhận Interest Receivables | C29: 2207 | D29: 1148506849 | E29: 602349315
A30: I.6 | B30: Tiền bán bất động sản chờ thu (không áp dụng) Real Estate Proceeds Receivables (not applicale) | C30: 2221
A31: I.7 | B31: Tiền bán chứng khoán chờ thu Securities Trading Receivables | C31: 2208 | D31: 619380000 | E31: 662836500 | F31: 0.16187919
A32: I.8 | B32: Các khoản phải thu khác Other Receivables | C32: 2210
A33: I.9 | B33: Các tài sản khác Other Assets | C33: 2211
A34: I.10 | B34: TỔNG TÀI SẢN TOTAL ASSETS | C34: 2212 | D34: 517291234466 | E34: 516936498162 | F34: 1.9285
A35: II | B35: Nợ Liability | C35: 2213
A36: II.1 | B36: Tiền phải thanh toán mua bất động sản (không áp dụng) Real Estate Trading Payables (not applicable) | C36: 2222
A37: II.2 | B37: Tiền phải thanh toán mua chứng khoán Securities Trading Payables | C37: 2214
B38: Phải trả về mua cổ phiếu Payables from shares | C38: 2214.1
B39: Phải trả về mua trái phiếu Payables from Bonds | C39: 2214.2
A40: II.3 | B40: Các khoản phải trả khác Other Payables | C40: 2215 | D40: 1711286603 | E40: 1607300177 | F40: 1.4831862
B41: Phải thực trả cho Nhà đầu tư về mua lại Chứng chỉ quỹ Net Redemption Payables | C41: 2215.1 | D41: 82453379 | E41: 66677335 | F41: 3.1621533
B42: Phải trả cho Nhà đầu tư về mua Chứng chỉ quỹ Subscription Suspense Payable | C42: 2215.2 | D42: 462629379 | E42: 499307491 | F42: 0.82496648
B43: Thuế và các khoản phải nộp Nhà nước Taxes Payables | C43: 2215.3 | D43: 13326054 | E43: 8407169 | F43: 3.5332207
...

Sheet BCKetQuaHoatDong_06028
A1: Phụ lục XXVI. Mẫu báo cáo về hoạt động của Quỹ Appendix XXVI. Report on Fund's Operation
A2: (Ban hành kèm theo Thông tư số 98/2020/TT-BTC ngày 16 tháng 11 năm 2020 của Bộ Tài chính) (Issued in association with Circular 98/2020/TT-BTC dated 16 November 2020 of the Minister of Finance)
A3: BÁO CÁO CHUNG VỀ HOẠT ĐỘNG ĐẦU TƯ CỦA QUỸ REPORT ON FUND'S INVESTMENT ACTIVITIES
A5: Tháng 05 năm 2026/May 2026
A7: Tên Công ty quản lý quỹ: | C7: Công Ty Cổ Phần Quản Lý Quỹ Đầu tư MB
A8: Fund Management Company: | C8: MB Capital Management Joint Stock Company
A9: Tên ngân hàng giám sát: | C9: Ngân hàng TMCP Đầu tư và Phát triển Việt Nam - Chi nhánh Hà Thành
A10: Supervising bank: | C10: Bank for Investment and Development of Vietnam Jsc - Hathanh Branch
A11: Tên Quỹ: | C11: Quỹ đầu tư tăng trưởng Bordier-MB Flagship
A12: Fund name: | C12: BMFF
A13: Ngày lập báo cáo: | C13: Ngày 05 tháng 06 năm 2026
A14: Reporting Date: | C14: 46178
A16: II. BÁO CÁO KẾT QUẢ HOẠT ĐỘNG/ PROFIT AND LOSS REPORT
A17: STT No | B17: Chỉ tiêu Indicator | C17: Mã chỉ tiêu Code | D17: Tháng 05.2026 May 2026 | E17: Tháng 04.2026 Apr 2026 | F17: Lũy kế từ đầu năm Accumulated from beginning of year
A18: I | B18: Thu nhập từ hoạt động đầu tư Income from Investment Activities | C18: 2220 | D18: 2273323238 | E18: 3299941279 | F18: 8437383321
A19: 1 | B19: Thu từ bất động sản cho thuê (không áp dụng) Income from rental property (not applicable)
A20: 2 | B20: Cổ tức, trái tức được nhận Dividend, Coupon | C20: 2221 | D20: 1525214344 | E20: 2662278220 | F20: 5636770303
A21: 3 | B21: Lãi được nhận Income from Interest | C21: 2222 | D21: 748108894 | E21: 637663059 | F21: 2800613018
A22: 4 | B22: Các khoản thu nhập khác Other income | C22: 2223
A23: II | B23: Chi phí Expense | C23: 2224 | D23: 899242587 | E23: 841991604 | F23: 4385686964
A24: 1 | B24: Phí quản lý trả cho công ty quản lý quỹ Management Fee paid to Fund Management Company | C24: 2225 | D24: 788724715 | E24: 758804072 | F24: 3791428939
A25: 2 | B25: Phí lưu ký, giám sát trả cho Ngân hàng Giám sát/ VSD Custody, Supervising Fees paid to Supervising Bank/VSD | C25: 2226 | D25: 42159285 | E25: 35884725 | F25: 203268151
B26: Phí dịch vụ lưu ký - bảo quản tài sản Custodian service - Custody Fee | C26: 2226.1 | D26: 21909020 | E26: 21077890 | F26: 105317471
B27: Phí dịch vụ lưu ký - giao dịch chứng khoán Custodian service - Transaction fee | C27: 2226.2 | D27: 6150000 | E27: 1350000 | F27: 31500000
B28: Phí giám sát Supervisory fee | C28: 2226.3 | D28: 9639966 | E28: 9274272 | F28: 46339686
B29: Phí dịch vụ - trả cho VSD Service fee - Paid to VSD | C29: 2226.4 | D29: 4460299 | E29: 4182563 | F29: 20110994
A30: 3 | B30: Chi phí quản trị quỹ và các chi phí khác mà công ty quản lý quỹ trả cho tổ chức cung cấp dịch vụ có liên quan Fund Administration Fee, and other fees paid to relevant Fund's service providers | C30: 2227 | D30: 29700000 | E30: 29700000 | F30: 148500000
B31: Chi phí dịch vụ quản trị Quỹ Fund Administration Fee | C31: 2227.1 | D31: 16500000 | E31: 16500000 | F31: 82500000
B32: Chi phí dịch vụ Đại lý Chuyển nhượng Transfer Agency Fee | C32: 2227.2 | D32: 13200000 | E32: 13200000 | F32: 66000000
A33: 4 | B33: Chi phí dịch vụ quản lý bất động sản (không áp dụng) Real Estate Management Service fee (not applicable) | C33: 2231
A34: 5 | B34: Chi phí dịch vụ định giá bất động sản (không áp dụng) Real estate valuation service fees (not applicable) | C34: 2232
A35: 6 | B35: Chi phí kiểm toán trả cho tổ chức kiểm toán Audit fee | C35: 2228 | D35: 5520547 | E35: 5342464 | F35: 26890402
A36: 7 | B36: Chi phí dịch vụ tư vấn pháp lý, dịch vụ báo giá và các dịch vụ hợp lý khác, thù lao trả cho ban đại diện quỹ Legal consultancy expenses, price quotation fee, other valid expenses, remuneration payable to fund representative board | C36: 2229 | D36: 7612902 | E36: 6000000 | F36: 31612902
B37: Thù lao ban đại diện Quỹ Remuneration of Fund's Board of Representatives | C37: 2229.1 | D37: 7612902 | E37: 6000000 | F37: 31612902
B38: Chi phí cung cấp báo giá chứng khoán Price feed fee Expenses | C38: 2229.2
A39: 8 | B39: Chi phí dự thảo, in ấn, gửi bản cáo bạch, bản cáo bạch tóm tắt, báo cáo tài chính, xác nhận giao dịch, sao kê tài khoản và các tài liệu khác cho nhà đầu tư; chi phí công bố thông tin của quỹ; chi phí tổ chức họp đại hội nhà đầu tư, ban đại diện quỹ Fee for drafting, printing, distribution of prospectus, summarised propectus, financial statements, transaction confirmations, account statements and other documents to investors; information disclosure fee; fee for organising annual general meeting, board of representatives meeting | C39: 2230
B40: Chi phí họp Đại hội Quỹ Meeting expense | C40: 2230.1
B41: Chi phí họp, công tác của ban đại diện Fund's Board of Representatives meeting, travelling expense | C41: 2230.2
A42: 9 | B42: Chi phí liên quan đến thực hiện các giao dịch tài sản của quỹ Expenses related to execution of fund’s asset transactions | C42: 2231 | D42: 24871674 | E42: 5510578 | F42: 180782845
B43: Chi phí môi giới Brokerage fee expense | C43: 2231.1 | D43: 24871674 | E43: 5510578 | F43: 180782845
...

Sheet BCDanhMucDauTu_06029
A1: Phụ lục XXVI. Mẫu báo cáo về hoạt động của Quỹ Appendix XXVI. Report on Fund's Operation
A2: (Ban hành kèm theo Thông tư số 98/2020/TT-BTC ngày 16 tháng 11 năm 2020 của Bộ Tài chính) (Issued in association with Circular 98/2020/TT-BTC dated 16 November 2020 of the Minister of Finance)
A3: BÁO CÁO CHUNG VỀ HOẠT ĐỘNG ĐẦU TƯ CỦA QUỸ REPORT ON FUND'S INVESTMENT ACTIVITIES
A5: Tại ngày 31 tháng 05 năm 2026/ As at 31 May 2026
A7: Tên Công ty quản lý quỹ: | C7: Công Ty Cổ Phần Quản Lý Quỹ Đầu tư MB
A8: Fund Management Company: | C8: MB Capital Management Joint Stock Company
A9: Tên ngân hàng giám sát: | C9: Ngân hàng TMCP Đầu tư và Phát triển Việt Nam Chi nhánh Hà Thành
A10: Supervising bank: | C10: Bank for Investment and Development of Vietnam Jsc Hathanh branch
A11: Tên Quỹ: | C11: Quỹ đầu tư tăng trưởng Bordier-MB Flagship
A12: Fund name: | C12: BMFF
A13: Ngày lập báo cáo: | C13: Ngày 05 tháng 06 năm 2026
A14: Reporting Date: | C14: 46178
A16: III. BÁO CÁO DANH MỤC ĐẦU TƯ CỦA QUỸ/ INVESTMENT PORFOLIO REPORT
A17: STT/No. | B17: Loại Category | C17: Mã chỉ tiêu Code | D17: Số Lượng Quantity | E17: Giá thị trường hoặc giá trị hợp lý tại ngày báo cáo Market price | F17: Tổng giá trị (Đồng) Value (VND) | G17: Tỷ lệ % Tổng giá trị tài sản của Quỹ % of total asset
A18: I | B18: Bất động sản đầu tư (Không áp dụng) Real estate investment ( not applicable)
A19: II | B19: Cổ phiếu niêm yết, đăng ký giao dịch, chứng chỉ quỹ niêm yết Listed shares, trading registration shared, listed fund certificates | C19: 2246
B20: ACB | C20: 2246.1 | D20: 3025000 | E20: 24900 | F20: 75322500000 | G20: 0.14560947
B21: BID | C21: 2246.2 | D21: 55000 | E21: 42000 | F21: 2310000000 | G21: 0.0044655696
B22: CTG | C22: 2246.3 | D22: 555000 | E22: 34800 | F22: 19314000000 | G22: 0.037336801
B23: DPR | C23: 2246.4 | D23: 400000 | E23: 41600 | F23: 16640000000 | G23: 0.032167566
B24: DXG | C24: 2246.5 | D24: 467400 | E24: 13050 | F24: 6099570000 | G24: 0.011791365
B25: HPG | C25: 2246.6 | D25: 675000 | E25: 24000 | F25: 16200000000 | G25: 0.031316981
B26: IJC | C26: 2246.7 | D26: 1499933 | E26: 9620 | F26: 14429355460 | G26: 0.027894065
B27: KDH | C27: 2246.8 | D27: 275000 | E27: 22550 | F27: 6201250000 | G27: 0.011987928
B28: MWG | C28: 2246.9 | D28: 15000 | E28: 76300 | F28: 1144500000 | G28: 0.0022124867
B29: NLG | C29: 2246.1 | D29: 15000 | E29: 26400 | F29: 396000000 | G29: 0.00076552621
B30: POW | C30: 2246.11 | D30: 21700 | E30: 13700 | F30: 297290000 | G30: 0.00057470527
B31: PVT | C31: 2246.12 | D31: 775000 | E31: 22200 | F31: 17205000000 | G31: 0.033259794
... B39: VPB | C39: 2246.2 | D39: 330000 | E39: 27100 | F39: 8943000000 | G39: 0.017288134
B40: Tổng Total | C40: 2247 | D40: 15820883 | F40: 347861050460 | G40: 0.67246655
A41: III | B41: Cổ phiếu chưa niêm yết, đăng ký giao dịch, chứng chỉ quỹ không niêm yết Unlisted shares, trading registration shared, unlisted fund certificates | C41: 2248
B42: Tổng Total | C42: 2249
B43: Tổng các loại cổ phiếu Total shares | C43: 2250 | D43: 15820883 | F43: 347861050460 | G43: 0.67246655
A44: IV | B44: Trái phiếu Bonds | C44: 2251
B45: BAF126003 | C45: 2251.1 | D45: 50 | E45: 99843663 | F45: 4992183151 | G45: 0.0096506239
B46: DSE125018 | C46: 2251.2 | D46: 69 | E46: 102612.46 | F46: 7080260 | G46: 1.3687183e-05
E47: #DIV/0!
B48: Tổng Total | C48: 2252 | D48: 119 | F48: 4999263411 | G48: 0.0096643111
A49: V | B49: Các loại chứng khoán khác Other sercurities | C49: 2253
B50: Tổng Total | C50: 2254
...

Sheet BCHoatDongVay_06026
A1: Phụ lục XXVI. Mẫu báo cáo về hoạt động của Quỹ Appendix XXVI. Report on Fund's Operation
A2: (Ban hành kèm theo Thông tư số 98/2020/TT-BTC ngày 16 tháng 11 năm 2020 của Bộ Tài chính) (Issued in association with Circular 91/2019/TT-BTC dated 16 November 2020 of the Minister of Finance )
A3: BÁO CÁO CHUNG VỀ HOẠT ĐỘNG ĐẦU TƯ CỦA QUỸ REPORT ON FUND'S INVESTMENT ACTIVITIES
A5: Tại ngày 31 tháng 05 năm 2026/ As at 31 May 2026
A7: Tên Công ty quản lý quỹ: | D7: Công Ty Cổ Phần Quản Lý Quỹ Đầu tư MB
A8: Fund Management Company: | D8: MB Capital Management Joint Stock Company
A9: Tên ngân hàng giám sát: | D9: Ngân hàng TMCP Đầu tư và Phát triển Việt Nam - Chi nhánh Hà Thành
A10: Supervising bank: | D10: Bank for Investment and Development of Vietnam Jsc - Hathanh Branch
A11: Tên Quỹ: | D11: Quỹ đầu tư tăng trưởng Bordier-MB Flagship
A12: Fund name: | D12: BMFF
A13: Ngày lập báo cáo: | D13: Ngày 05 tháng 06 năm 2026
A14: Reporting Date: | D14: 46178
A16: IV.BÁO CÁO HOẠT ĐỘNG VAY, GIAO DỊCH MUA BÁN LẠI CỦA QUỸ/REPORT ON BORROWING OPERATION, REPO/REVERSE REPO TRANSACTIONS OF THE FUND
A17: STT No. | B17: Nội dung hoạt động (nêu chi tiết theo mục tiêu và đối tác) Description | C17: Mã chỉ tiêu Code | D17: Đối tác Counterparty | E17: Mục tiêu/Tài sản đảm bảo Collateral | F17: Kỳ hạn Term | G17: Giá trị khoản vay hoặc khoản cho vay Amount | H17: Thời điểm giao dịch As at transaction date | J17: Thời điểm báo cáo As at reporting date
H18: Ngày tháng năm Date | I18: Tỷ lệ giá trị hợp đồng/giá trị tài sản ròng của quỹ Balance/NAV | J18: Ngày tháng năm Date | K18: Tỷ lệ giá trị hợp đồng/giá trị tài sản ròng của quỹ Balance/NAV
A19: 1 | B19: Các khoản vay tiền (nêu chi tiết từng hợp đồng) Borrowings (detail by each contract) | C19: 2287
A20: I | B20: Tổng giá trị các khoản vay tiền/giá trị tài sản ròng Borowings/NAV | C20: 2288
A21: 1.2 | B21: Hợp đồng Repo (nêu chi tiết từng hợp đồng) Repo (detail by each contract) | C21: 2289
A22: II | B22: Tổng giá trị các hợp đồng Repo/giá trị tài sản ròng Repo/NAV | C22: 2290
A23: A | B23: Tổng giá trị các khoản vay/giá trị tài sản ròng (=I+II) Total Borrowings, Repo/NAV | C23: 2291
A24: 3 | B24: Cho vay chứng khoán (nêu chi tiết từng hợp đồng) Margin (detail by each contract) | C24: 2292
A25: III | B25: Tổng giá trị các hợp đồng/giá trị tài sản ròng Total Margin/NAV | C25: 2293
A26: 4 | B26: Hợp đồng Reverse Repo (nêu chi tiết từng hợp đồng) Reverse Repo (Detail by each contract) | C26: 2295
A27: IV | B27: Tổng giá trị các hợp đồng/giá trị tài sản ròng của quỹ Reverse Repo/NAV | C27: 2296
A28: B | B28: Tổng giá trị các khoản cho vay/giá trị tài sản ròng (=III + IV) Total Loans/NAV | C28: 2297
A31: Đại diện có thẩm quyền của Ngân hàng giám sát | H31: Đại diện có thẩm quyền của Công ty quản lý Quỹ
A32: Authorised Representative of Supervisory Bank | H32: Authorised Representative of Fund Management Company
A42: NH TMCP Đầu tư và Phát triển VN_CN Hà Thành | H42: Nguyễn Thị Sao Mai | I42: Phạm Thị Thu Hương
A43: Lê Mỹ Linh - Phó Giám Đốc | H43: Kế toán | I43: Kế toán trưởng

Sheet Khac_06030
A1: Phụ lục XXVI. Mẫu báo cáo về hoạt động của Quỹ Appendix XXVI. Report on Fund's Operation
A2: (Ban hành kèm theo Thông tư số 98/2020/TT-BTC ngày16 tháng 11 năm 2020 của Bộ Tài chính) (Issued in association with Circular 98/2020/TT-BTC dated 16 November 2020 of the Minister of Finance)
A3: BÁO CÁO CHUNG VỀ HOẠT ĐỘNG ĐẦU TƯ CỦA QUỸ REPORT ON FUND'S INVESTMENT ACTIVITIES
A5: Tháng 05 năm 2026/May 2026
A7: Tên Công ty quản lý quỹ: | C7: Công Ty Cổ Phần Quản Lý Quỹ Đầu tư MB
A8: Fund Management Company | C8: MB Capital Management Joint Stock Company
A9: Tên ngân hàng giám sát: | C9: Ngân hàng TMCP Đầu tư và Phát triển Việt Nam - Chi nhánh Hà Thành
A10: Supervising bank: | C10: Bank for Investment and Development of Vietnam Jsc - Hathanh Branch
A11: Tên Quỹ: | C11: Quỹ đầu tư tăng trưởng Bordier-MB Flagship
A12: Fund name: | C12: BMFF
A13: Ngày lập báo cáo: | C13: Ngày 05 tháng 06 năm 2026
A14: Reporting Date: | C14: 46178
A16: V. MỘT SỐ CHỈ TIÊU KHÁC/ OTHER INDICATORS
A17: STT/No. | B17: Chỉ tiêu/Indicators | C17: Mã chỉ tiêu/Code | D17: Tháng 05.2026 May 2026 | E17: Tháng 04.2026 Apr 2026
A18: I | B18: CÁC CHỈ TIÊU VỀ HIỆU QUẢ HOẠT ĐỘNG INVESTMENT PERFORMANCE INDICATORS | C18: 2264
A19: 1 | B19: Tỷ lệ giá dịch vụ quản lý quỹ trả cho công ty quản lý quỹ/Giá trị tài sản ròng trung bình trong kỳ (%) Management fee paid to the fund management company/Average NAV (%) | C19: 2265 | D19: 0.018347094 | E19: 0.017755348
A20: 2 | B20: Tỷ lệ giá dịch vụ lưu ký, giám sát trả cho Ngân hàng Giám sát/Giá trị tài sản ròng trung bình trong kỳ (%) Custody and supervising fees paid to the Supervisory Bank/Average NAV (%) | C20: 2266 | D20: 0.00098069751 | E20: 0.00083967099
A21: 3 | B21: Tỷ lệ chi phí dịch vụ quản trị quỹ, và các chi phí khác mà công ty quản lý quỹ trả cho tổ chức cung cấp dịch vụ có liên quan/Giá trị tài sản ròng của quỹ trung bình trong kỳ (%) Fund admin fee, and other fees paid to relating services providers by the fund management company/Average NAV (%) | C21: 22661 | D21: 0.0006908731 | E21: 0.00069495387
A22: 4 | B22: Chi phí kiểm toán trả cho tổ chức kiểm toán (nếu phát sinh) / Giá trị tài sản ròng trung bình trong kỳ (%) Audit fee expense over average NAV ratio (%) | C22: 2267 | D22: 0.00012841742 | E22: 0.00012500896
A23: 5 | B23: Chi phí trả cho tổ chức quản lý bất động sản/ Giá trị tài sản ròng trung bình trong kỳ (%) (không áp dụng) Fee paid to Real Estate management organisation/ Average NAV (%) (not applicable)
A24: 6 | B24: Chi phí trả cho doanh nghiệp thẩm định giá bất động sản/Giá trị tài sản ròng trung bình trong kỳ (%) (không áp dụng) Fee paid to Real Estate valuation service provider/ Average NAV (%) (not applicable)
A25: 7 | B25: Chi phí dịch vụ tư vấn pháp lý, dịch vụ báo giá và các dịch vụ hợp lý khác, thù lao trả cho ban đại diện quỹ / Giá trị tài sản ròng trung bình trong kỳ (%) Legal consultancy, OTC price quotation and other valid service fees; Board of Representatives' remuneration expense over average NAV ratio (%) | C25: 2268 | D25: 0.0001770892 | E25: 0.00014039472
A26: 8 | B26: Tỷ lệ chi phí /Giá trị tài sản ròng trung bình trong kỳ (%) Expense/Average NAV (%) | C26: 2269 | D26: 0.02091793 | E26: 0.019701863
A27: 9 | B27: Tốc độ vòng quay danh mục trong kỳ (%) = (Tổng giá trị danh mục mua vào + tổng giá trị danh mục bán ra) / 2 / Giá trị tài sản ròng trung bình trong kỳ Portfolio turnover rate (%) = (total value of buy-in portfolio + total proceeds of sale-out portfolio) / 2 / Average NAV | C27: 2270 | D27: 0.04227532 | E27: 0.0096993355
A28: 10 | B28: Tỷ lệ thu nhập (tính cả thu nhập từ lãi, cổ tức, trái tức, chênh lệch giá)/ Giá trị tài sản ròng (không áp dụng) Income (including interest income, dividend, coupon income and unrealised gain)/ Average NAV (%) (not applicable)
A29: II | B29: CÁC CHỈ TIÊU KHÁC OTHER INDICATORS | C29: 2272
A30: 1 | B30: Quy mô quỹ đầu kỳ (tính theo mệnh giá chứng chỉ quỹ) Fund scale at the beginning of the period (based on par value of fund certificate) | C30: 2273 | D30: 317266443800 | E30: 316449594900
B31: Tổng giá trị chứng chỉ quỹ đang lưu hành đầu kỳ Total value of outstanding Fund Certificate at the beginning of period | C31: 2274 | D31: 317266443800 | E31: 316449594900
B32: Tổng số lượng chứng chỉ quỹ đang lưu hành đầu kỳ Total number of outstanding Fund Certificate at the beginning of period | C32: 2275 | D32: 31726644 | E32: 31644959
A33: 2 | B33: Thay đổi quy mô quỹ trong kỳ (tính theo mệnh giá chứng chỉ quỹ) Change of Fund scale during the period (based on par value of fund certificate) | C33: 2276 | D33: -2193957900 | E33: 816848900
B34: Số lượng chứng chỉ quỹ phát hành thêm trong kỳ Number of Fund Certificates subscribed during the period | C34: 2277 | D34: 599321.28 | E34: 600768.3
B35: Giá trị vốn huy động thêm trong kỳ (theo mệnh giá) Net subscription amount in period (based on par value) | C35: 2278 | D35: 5993212800 | E35: 6007683000
B36: Số lượng chứng chỉ quỹ mua lại trong kỳ (theo mệnh giá) Number of Fund Certificates redeemed during the period | C36: 22781 | D36: 818717.07 | E36: 519083.41
B37: Giá trị vốn phải thanh toán trong kỳ khi đáp ứng lệnh của nhà đầu tư (theo mệnh giá) Net redemption amount in period (based on par value) | C37: 22782 | D37: 8187170700 | E37: 5190834100
A38: 3 | B38: Quy mô quỹ cuối kỳ (tính theo mệnh giá chứng chỉ quỹ) Fund scale at the end of the period (based on par value of fund unit) | C38: 2279 | D38: 315072485900 | E38: 317266443800
B39: Tổng giá trị chứng chỉ quỹ đang lưu hành cuối kỳ Total value of outstanding Fund Certificate at the end of the period | C39: 2280 | D39: 315072485900 | E39: 317266443800
B40: Tổng số lượng đơn vị quỹ đang lưu hành cuối kỳ Total number of outstanding Fund Certificate at the end of the period | C40: 2281 | D40: 31507249 | E40: 31726644
A41: 4 | B41: Tỷ lệ nắm giữ chứng chỉ quỹ của công ty quản lý quỹ và người có liên quan cuối kỳ Fund Management Company and related parties' ownership ratio at the end of the period | C41: 2282 | D41: 0.146 | E41: 0.145
A42: 5 | B42: Tỷ lệ nắm giữ chứng chỉ quỹ của 10 nhà đầu tư lớn nhất cuối kỳ Top 10 investors' ownership ratio at the end of the period | C42: 2283 | D42: 0.4512 | E42: 0.4505
A43: 6 | B43: Tỷ lệ nắm giữ chứng chỉ quỹ của nhà đầu tư nước ngoài cuối kỳ Foreign investors' ownership ratio at the end of the period | C43: 2284 | D43: 0.1464 | E43: 0.1452
...

Sheet GiaTriTaiSanRong_06129
A1: Mẫu số B03g - QM: Mẫu báo cáo thay đổi giá trị tài sản ròng, giao dịch chứng chỉ quỹ Template B03g - QM: Report on change of Net Asset Value, trading of Fund Certificate
A2: (Ban hành kèm theo Thông tư 198/2012/TT-BTC ngày 15 tháng 11 năm 2012 về chế độ kế toán áp dụng đối với quỹ mở) (Issued in association with Circular 198/2012/TT-BTC dated 15 Nov 2012 on the Accounting Policies for Open-Ended Fund)
A3: BÁO CÁO THAY ĐỔI GIÁ TRỊ TÀI SẢN RÒNG, GIAO DỊCH CHỨNG CHỈ QUỸ REPORT ON CHANGE OF NET ASSET VALUE, TRADING OF FUND CERTIFICATE
A5: Tháng 05 năm 2026/May 2026
A7: Tên Công ty quản lý quỹ: | D7: Công Ty Cổ Phần Quản Lý Quỹ Đầu tư MB
A8: Fund Management Company: | D8: MB Capital Management Joint Stock Company
A9: Tên ngân hàng giám sát: | D9: Ngân hàng TMCP Đầu tư và Phát triển Việt Nam - Chi nhánh Hà Thành
A10: Supervising bank: | D10: Bank for Investment and Development of Vietnam Jsc - Hathanh Branch
A11: Tên Quỹ: | D11: Quỹ đầu tư tăng trưởng Bordier-MB Flagship
A12: Fund name: | D12: BMFF
A13: Ngày lập báo cáo: | D13: Ngày 05 tháng 06 năm 2026
A14: Reporting Date: | D14: 46178
A16: STT No | C16: Nội dung Item | D16: Mã số Code | E16: Tháng 05.2026 May 2026 | F16: Tháng 04.2026 Apr 2026
A17: I | C17: I. Giá trị tài sản ròng của Quỹ mở (NAV) đầu kỳ Net Asset Value (NAV) at the beginning of period | D17: 4060 | E17: 515329197985 | F17: 506809441436
A18: II | C18: II. Thay đổi NAV so với kỳ trước (= II.1 + II.2), trong đó Change of NAV during the period (= II.1 + II.2), of which: | D18: 4061 | E18: 3828671022 | F18: 7215583817
B19: II.1 | C19: II.1 Thay đổi NAV do biến động thị trường và hoạt động giao dịch của Quỹ mở trong kỳ Changes of NAV due to market fluctuation and the fund's investment during the period | D19: 4062 | E19: 3828671022 | F19: 7215583817
B20: II.2 | C20: II.2 Thay đổi NAV do phân chia Lợi nhuận/Tài sản của Quỹ mở cho Nhà đầu tư trong kỳ Change of NAV due to profit distribution to investors during the period | D20: 4063
A21: III | C21: III. Thay đổi NAV do mua lại, phát hành thêm Chứng chỉ quỹ (= III.1 – III.2) Change of NAV due to redemption, subscription of Fund Certificate | D21: 4064 | E21: -3577921144 | F21: 1304172732
B22: III.1 | C22: III.1 Khoản thu từ việc phát hành bổ sung Chứng chỉ quỹ Increase from Subscription of Fund Certificate | D22: 4065 | E22: 9748128343 | F22: 9711347528
B23: III.2 | C23: III.2 Khoản thanh toán từ việc mua lại Chứng chỉ quỹ Decrease from Redemption of Fund Certificate | D23: 4066 | E23: 13326049487 | F23: 8407174796
A24: IV | C24: IV. Giá trị tài sản ròng của Quỹ mở cuối kỳ ( = I+II+III) NAV at the end of period (= I + II + III) | D24: 4067 | E24: 515579947863 | F24: 515329197985
A27: Đại diện có thẩm quyền của Ngân hàng giám sát | F27: Đại diện có thẩm quyền của Công ty quản lý Quỹ
A28: Authorised Representative of Supervisory Bank | F28: Authorised Representative of Fund Management Company
A39: NH TMCP Đầu tư và Phát triển VN_CN Hà Thành | E39: Nguyễn Thị Sao Mai Phạm Thị Thu Hương
A40: Lê Mỹ Linh - Phó Giám Đốc | E40: Kế toán Kế toán trưởng

Sheet BC Han muc nuoc ngoai
A1: Phụ lục XXVI. Mẫu báo cáo về hoạt động của Quỹ Appendix XXVI. Report on Fund's Operation
A2: (Ban hành kèm theo Thông tư số 98/2020/TT-BTC ngày 16 tháng 11 năm 2020 của Bộ Tài chính) (Issued in association with Circular 98/2020/TT-BTC dated 16 November 2020 of the Minister of Finance)
A3: BÁO CÁO VỀ TÌNH HÌNH TỰ DOANH ĐẦU TƯ GIÁN TIẾP RA NƯỚC NGOÀI CỦA QUỸ REPORT ON FUND'S FOREIGN PORFOLIO INVESTMENT
A5: Tại ngày 31 tháng 05 năm 2026/ As at 31 May 2026
A7: Tên công ty quản lý quỹ: Management Fund Company name: | C7: Công Ty Cổ Phần Quản Lý Quỹ Đầu tư MB MB Capital Management Joint Stock Company
A8: Tên ngân hàng giám sát: Supervising bank: | C8: Ngân Hàng TMCP Đầu tư và Phát triển Việt Nam - Chi nhánh Hà Thành Bank for Investment and Development of Vietnam Jsc - Hathanh Branch
A9: Tên Quỹ: Fund name: | C9: Quỹ đầu tư tăng trưởng Bordier-MB Flagship BMFF
A10: Ngày lập báo cáo: | C10: Ngày 05 tháng 06 năm 2026
A11: Reporting Date: | C11: 46178
A13: I. Báo cáo về tình hình thực hiện hạn mức tự doanh đầu tư gián tiếp ra nước ngoài
A14: STT No. | B14: Chỉ tiêu | C14: Giá trị
C15: USD | D15: VND (quy đổi)
A16: I | B16: Hạn mức tự doanh được Ngân hàng nhà nước xác nhận
A17: 1 | B17: Đô la Mỹ
A18: 2 | B18: …
A19: II | B19: Giá trị đã đầu tư tại thời điểm cuối tháng
A20: 1 | B20: Đô la Mỹ
A21: 2 | B21: …
A22: III | B22: Giá trị đã đầu tư trong tháng
A23: 1 | B23: Đô la Mỹ
A24: 2 | B24: …
A25: IV | B25: Giá trị còn được đầu tư (IV=I-II)
A26: 1 | B26: Đô la Mỹ
A27: 2 | B27: …
A28: (Tỷ giá được quy đổi theo tỷ giá giao dịch thực tế tại thời điểm phát sinh giao dịch)
A30: Đại diện có thẩm quyền của Ngân hàng giám sát | C30: Đại diện có thẩm quyền của Công ty quản lý Quỹ
A31: Authorised Representative of Supervisory Bank | C31: Authorised Representative of Fund Management Company
A41: Ngân hàng TMCP Đầu tư và Phát triển Việt Nam - CN Hà Thành | C41: Nguyễn Thị Sao Mai Phạm Thị Thu Hương
A42: Lê Mỹ Linh - Phó Giám Đốc | C42: Kế toán Kế toán trưởng

Sheet BC TS DT nuoc ngoai
A1: Phụ lục XXVI. Mẫu báo cáo về hoạt động của Quỹ Appendix XXVI. Report on Fund's Operation
A2: (Ban hành kèm theo Thông tư số 98/2020/TT-BTC ngày 16 tháng 11 năm 2020 của Bộ Tài chính) (Issued in association with Circular 98/2020/TT-BTC dated 16 November 2020 of the Minister of Finance)
A3: BÁO CÁO VỀ TÌNH HÌNH TỰ DOANH ĐẦU TƯ GIÁN TIẾP RA NƯỚC NGOÀI CỦA QUỸ PERIODICAL REPORT ON FUND'S FOREIGN PORFOLIO INVESTMENT
A4: Tại ngày 31 tháng 05 năm 2026/ As at 31 May 2026
A6: Tên công ty quản lý quỹ: Management Fund Company name: | C6: Công Ty Cổ Phần Quản Lý Quỹ Đầu tư MB MB Capital Management Joint Stock Company
A7: Tên ngân hàng giám sát: Supervising bank: | C7: Ngân Hàng TMCP Đầu tư và Phát triển Việt Nam - Chi nhánh Hà Thành Bank for Investment and Development of Vietnam Jsc - Hathanh Branch
A8: Tên Quỹ: Fund name: | C8: Quỹ đầu tư tăng trưởng Bordier-MB Flagship BMFF
A9: Ngày lập báo cáo: | C9: Ngày 05 tháng 06 năm 2026
A10: Reporting Date: | C10: 46178
A12: II. BÁO CÁO VỀ TÀI SẢN ĐẦU TƯ GIÁN TIẾP RA NƯỚC NGOÀI CỦA QUỸ/ ASSET OF FUND'S FOREIGN PORFOLIO INVESTMENT REPORT
A13: TT NO | B13: Tài sản Assets | C13: Kỳ báo cáo This period | E13: Kỳ trước Previous period | G13: %/cùng kỳ năm trước %/same period of last year
C14: USD | D14: VND (quy đổi) | E14: USD | F14: VND (quy đổi)
A15: I.1 | B15: Tiền gửi ngân hàng và các khoản tương đương tiền Cash at bank and cash equivalent
B16: Tiền Cash in bank
B17: Tiền gửi ngân hàng Cash at bank
B18: Các khoản tương đương tiền Cash equivalent
A19: I.2 | B19: Các khoản đầu tư (kê chi tiết) Investments
A20: I.3 | B20: Cổ tức, trái tức được nhận Dividend and coupon receivables
A21: I.4 | B21: Lãi được nhận Interest receivables
A22: I.5 | B22: Tiền bán chứng khoán chờ thu (kê chi tiết) Receivables from investments sold but not yet settled (in details)
A23: I.6 | B23: Các khoản phải thu khác Other receivables
A24: I.7 | B24: Các tài sản khác Other assets
A25: I.8 | B25: Tổng tài sản Total Assets
A26: TT NO | B26: Nợ Liabilities | C26: Kỳ báo cáo This period | E26: Kỳ trước Previous period | G26: %/cùng kỳ năm trước %/same period of last year
C27: USD | D27: VND (quy đổi) | E27: USD | F27: VND (quy đổi)
A28: II.1 | B28: Tiền phải thanh toán mua chứng khoán (kê chi tiết) Paybles for securities bought but not yet settled (in details)
A29: II.2 | B29: Các khoản phải trả khác Other payables
A30: II.3 | B30: Tổng nợ Total liabilities
A31: (Tỷ giá được quy đổi theo tỷ giá giao dịch thực tế tại thời điểm phát sinh giao dịch)
A33: Đại diện có thẩm quyền của Ngân hàng giám sát | E33: Đại diện có thẩm quyền của Công ty quản lý Quỹ
A34: Authorised Representative of Supervisory Bank | E34: Authorised Representative of Fund Management Company
A45: Ngân hàng TMCP Đầu tư và Phát triển Việt Nam - Chi nhánh Hà Thành | E45: Nguyễn Thị Sao Mai Phạm Thị Thu Hương
A46: Lê Mỹ Linh - Phó Giám Đốc | E46: Kế toán Kế toán trưởng

Sheet BCKetQuaHoatDong DT nuoc ngoai
A1: Phụ lục XXVI. Mẫu báo cáo về hoạt động của Quỹ Appendix XXVI. Report on Fund's Operation
A2: (Ban hành kèm theo Thông tư số 98/2020/TT-BTC ngày 16 tháng 11 năm 2020 của Bộ Tài chính) (Issued in association with Circular 98/2020/TT-BTC dated 16 November 2020 of the Minister of Finance)
A3: BÁO CÁO VỀ TÌNH HÌNH TỰ DOANH ĐẦU TƯ GIÁN TIẾP RA NƯỚC NGOÀI CỦA QUỸ PERIODICAL REPORT ON FUND'S FOREIGN PORFOLIO INVESTMENT
A4: Tháng 05 năm 2026/May 2026
A6: Tên công ty quản lý quỹ: Management Fund Company name: | C6: Công Ty Cổ Phần Quản Lý Quỹ Đầu tư MB MB Capital Management Joint Stock Company
A7: Tên ngân hàng giám sát: Supervising bank: | C7: Ngân Hàng TMCP Đầu tư và Phát triển Việt Nam - Chi nhánh Hà Thành Bank for Investment and Development of Vietnam Jsc - Hathanh Branch
A8: Tên Quỹ: Fund name: | C8: Quỹ đầu tư tăng trưởng Bordier-MB Flagship BMFF
A9: Ngày lập báo cáo: | C9: Ngày 05 tháng 06 năm 2026
A10: Reporting Date: | C10: 46178
A12: III. BÁO CÁO KẾT QUẢ HOẠT ĐỘNG ĐẦU TƯ GIÁN TIẾP RA NƯỚC NGOÀI/ PROFIT AND LOSS REPORT FROM FOREIGN PORFOLIO INVESTMENT
A13: TT NO | B13: Chỉ tiêu Indicators | C13: Kỳ báo cáo This period | E13: Kỳ trước Previous period | G13: Lũy kế từ đầu năm Accumulated figure from the beginning of the year
C14: USD | D14: VND (quy đổi) | E14: USD | F14: VND (quy đổi)
A15: I | B15: Thu nhập từ hoạt động đầu tư gián tiếp ra nước ngoài Investment income from foreign porfolio investment
A16: 1 | B16: Cổ tức, trái tức được nhận Dividend, Bond coupon income
A17: 2 | B17: Lãi được nhận Interest income
A18: 3 | B18: Các khoản thu nhập khác (kê chi tiết) Other income
A19: II | B19: Chi phí đầu tư gián tiếp ra nước ngoài Expense from foreign porfolio investment
A20: 1 | B20: Phí lưu ký tại nước ngoài Custodian, Supervisory fee for foreign Supervisory Bank
A21: 2 | B21: Các loại phí khác (nêu chi tiết) Other fees (in details)
A22: III | B22: Thu nhập ròng từ hoạt động đầu tư gián tiếp ra nước ngoài (I-II) Net Income from foreign porfolio investment ( = I - II)
A23: IV | B23: Lãi (lỗ) từ hoạt động đầu tư gián tiếp ra nước ngoài Gain / (Loss) from foreign porfolio investment
A24: 1 | B24: Lãi (lỗ) thực tế phát sinh từ hoạt động đầu tư Realised Gain / (Loss) from disposal of investment
A25: 2 | B25: Thay đổi về giá trị của các khoản đầu tư trong kỳ Unrealised Gain / (Loss) due to market price
A26: (Tỷ giá được quy đổi theo tỷ giá giao dịch thực tế tại thời điểm phát sinh giao dịch)
A28: Đại diện có thẩm quyền của Ngân hàng giám sát | E28: Đại diện có thẩm quyền của Công ty quản lý Quỹ
A29: Authorised Representative of Supervisory Bank | E29: Authorised Representative of Fund Management Company
A41: Ngân hàng TMCP Đầu tư và Phát triển Việt Nam - Chi nhánh Hà Thành | E41: Nguyễn Thị Sao Mai Phạm Thị Thu Hương
A42: Lê Mỹ Linh - Phó Giám Đốc | E42: Kế toán Kế toán trưởng

Sheet BCDanhMucDauTu DT nuoc ngoai
A1: Phụ lục XXVI. Mẫu báo cáo về hoạt động của Quỹ Appendix XXVI. Report on Fund's Operation
A2: (Ban hành kèm theo Thông tư số 98/2020/TT-BTC ngày 16 tháng 11 năm 2020 của Bộ Tài chính) (Issued in association with Circular 98/2020/TT-BTC dated 16 November 2020 of the Minister of Finance)
A3: BÁO CÁO VỀ TÌNH HÌNH TỰ DOANH ĐẦU TƯ GIÁN TIẾP RA NƯỚC NGOÀI CỦA QUỸ PERIODICAL REPORT ON FUND'S FOREIGN PORFOLIO INVESTMENT
A4: Tại ngày 31 tháng 05 năm 2026/ As at 31 May 2026
A6: Tên công ty quản lý quỹ: Management Fund Company name: | C6: Công Ty Cổ Phần Quản Lý Quỹ Đầu tư MB MB Capital Management Joint Stock Company
A7: Tên ngân hàng giám sát: Supervising bank: | C7: Ngân hàng TMCP Đầu tư và Phát triển Việt Nam - Chi nhánh Hà Thành Bank of Investment and Development of Vietnam Jsc - Hathanh Branch
A8: Tên Quỹ: Fund name: | C8: Quỹ đầu tư tăng trưởng Bordier-MB Flagship BMFF
A9: Ngày lập báo cáo: | C9: Ngày 05 tháng 06 năm 2026
A10: Reporting Date: | C10: 46178
A12: IV. BÁO CÁO DANH MỤC ĐẦU TƯ GIÁN TIẾP RA NƯỚC NGOÀI CỦA QUỸ/ FOREIGN INVESTMENT PORFOLIO REPORT | H12: Đơn vị tính/Currency: VND
A13: STT | B13: Loại tài sản Asset types | C13: Số lượng Quantity | D13: Giá thị trường hoặc giá trị hợp lý tại ngày báo cáo Market price or fair value at reporting date | F13: Tổng giá trị Total value | H13: Tỷ lệ %/Tổng giá trị tài sản ròng của quỹ %/Total net asset value of the Fund
D14: USD | E14: VND (quy đổi) | F14: USD | G14: VND (quy đổi)
A15: I | B15: Chứng chỉ tiền gửi Certificates of deposit
A16: 1
B17: Tổng Total
A18: II | B18: Trái phiếu chính phủ Government bonds
A19: 1
B20: Tổng Total
A21: III | B21: Cổ phiếu niêm yết Listed equity
A22: 1
B23: Tổng Total
A24: IV | B24: Trái phiếu niêm yết Listed Bonds
A25: 1
B26: Tổng Total
A27: V | B27: Chứng chỉ quỹ niêm yết Listedt fund certificates
A28: 1
B29: Tổng Total
A30: VI | B30: Các tài sản khác Other assets
A31: 1
B32: Tổng Total
A33: VII | B33: Tổng giá trị danh mục Total value of portfolio
A35: (Tỷ giá được quy đổi theo tỷ giá giao dịch thực tế tại thời điểm phát sinh giao dịch)
A37: Đại diện có thẩm quyền của Ngân hàng giám sát | F37: Đại diện có thẩm quyền của Công ty quản lý Quỹ
A38: Authorised Representative of Supervisory Bank | F38: Authorised Representative of Fund Management Company
A50: Ngân hàng TMCP Đầu tư và Phát triển Việt Nam - Chi nhánh Hà Thành | F50: Nguyễn Thị Sao Mai Phạm Thị Thu Hương
A51: Lê Mỹ Linh - Phó Giám Đốc | F51: Kế toán Kế toán trưởng
